BEGIN:VCALENDAR
VERSION:2.0
PRODID:-//Siyer Vakfı - ECPv6.15.17.1//NONSGML v1.0//EN
CALSCALE:GREGORIAN
METHOD:PUBLISH
X-ORIGINAL-URL:https://siyervakfi.org
X-WR-CALDESC:Siyer Vakfı için etkinlikler
REFRESH-INTERVAL;VALUE=DURATION:PT1H
X-Robots-Tag:noindex
X-PUBLISHED-TTL:PT1H
BEGIN:VTIMEZONE
TZID:Europe/Istanbul
BEGIN:STANDARD
TZOFFSETFROM:+0300
TZOFFSETTO:+0300
TZNAME:+03
DTSTART:20250101T000000
END:STANDARD
END:VTIMEZONE
BEGIN:VEVENT
DTSTART;TZID=Europe/Istanbul:20260219T220000
DTEND;TZID=Europe/Istanbul:20260319T230000
DTSTAMP:20260420T173556
CREATED:20260212T002434Z
LAST-MODIFIED:20260212T002447Z
UID:57439-1771538400-1773961200@siyervakfi.org
SUMMARY:Siyerden Ahlâka Programları
DESCRIPTION:
URL:https://siyervakfi.org/etkinlik/siyerden-ahlaka-programlari-canli-yayin/
LOCATION:Siyer Vakfı\, Düğmeciler Mahallesi Vezir Tekke Caddesi No:2/1 Eyüpsultan\, İstanbul\, Türkiye
ATTACH;FMTTYPE=image/jpeg:https://siyervakfi.org/wp-content/uploads/2026/02/siyerden-ahlaka-programlari-basliyor.jpg
END:VEVENT
BEGIN:VEVENT
DTSTART;TZID=Europe/Istanbul:20260306T220000
DTEND;TZID=Europe/Istanbul:20260306T230000
DTSTAMP:20260420T173556
CREATED:20260305T084652Z
LAST-MODIFIED:20260305T084654Z
UID:57655-1772834400-1772838000@siyervakfi.org
SUMMARY:Bedir Gecesi (Hicri 1447)
DESCRIPTION:
URL:https://siyervakfi.org/etkinlik/bedir-gecesi-hicri-1447/
LOCATION:Siyer Vakfı\, Düğmeciler Mahallesi Vezir Tekke Caddesi No:2/1 Eyüpsultan\, İstanbul\, Türkiye
ATTACH;FMTTYPE=image/jpeg:https://siyervakfi.org/wp-content/uploads/2026/03/bedir-slider.jpg
END:VEVENT
BEGIN:VEVENT
DTSTART;TZID=Europe/Istanbul:20260316T220000
DTEND;TZID=Europe/Istanbul:20260316T230000
DTSTAMP:20260420T173556
CREATED:20260305T104958Z
LAST-MODIFIED:20260309T150603Z
UID:57662-1773698400-1773702000@siyervakfi.org
SUMMARY:Kadir Gecesi (Hicri 1447)
DESCRIPTION:
URL:https://siyervakfi.org/etkinlik/kadir-gecesi-hicri-1447/
LOCATION:Siyer Vakfı\, Düğmeciler Mahallesi Vezir Tekke Caddesi No:2/1 Eyüpsultan\, İstanbul\, Türkiye
ATTACH;FMTTYPE=image/jpeg:https://siyervakfi.org/wp-content/uploads/2026/03/kadir-gecesi-programi-1447-slider.jpg
END:VEVENT
BEGIN:VEVENT
DTSTART;TZID=Europe/Istanbul:20260328T203000
DTEND;TZID=Europe/Istanbul:20260328T213000
DTSTAMP:20260420T173556
CREATED:20260305T112559Z
LAST-MODIFIED:20260323T014006Z
UID:57664-1774729800-1774733400@siyervakfi.org
SUMMARY:Sireti Enbiya 171. Program
DESCRIPTION:
URL:https://siyervakfi.org/etkinlik/sireti-enbiya-171-program/
LOCATION:Siyer Vakfı\, Düğmeciler Mahallesi Vezir Tekke Caddesi No:2/1 Eyüpsultan\, İstanbul\, Türkiye
ATTACH;FMTTYPE=image/jpeg:https://siyervakfi.org/wp-content/uploads/2026/03/sireti-enbiya-171-program.jpg
END:VEVENT
BEGIN:VEVENT
DTSTART;TZID=Europe/Istanbul:20260329T190000
DTEND;TZID=Europe/Istanbul:20260329T210000
DTSTAMP:20260420T173556
CREATED:20260312T155910Z
LAST-MODIFIED:20260323T003720Z
UID:57714-1774810800-1774818000@siyervakfi.org
SUMMARY:Aydınlık Zemin: Asr-ı Saadet (Erzincan)
DESCRIPTION:
URL:https://siyervakfi.org/etkinlik/aydinlik-zemin-asr-i-saadet/
ATTACH;FMTTYPE=image/jpeg:https://siyervakfi.org/wp-content/uploads/2026/03/hicri-1447-erzincan-gumushane.jpg
END:VEVENT
BEGIN:VEVENT
DTSTART;TZID=Europe/Istanbul:20260330T193000
DTEND;TZID=Europe/Istanbul:20260330T210000
DTSTAMP:20260420T173556
CREATED:20260323T003829Z
LAST-MODIFIED:20260323T003831Z
UID:57792-1774899000-1774904400@siyervakfi.org
SUMMARY:Aydınlık Yolun Rehberi: Peygamberler (Gümüşhane)
DESCRIPTION:
URL:https://siyervakfi.org/etkinlik/aydinlik-yolun-rehberi-peygamberler-gumushane/
ATTACH;FMTTYPE=image/jpeg:https://siyervakfi.org/wp-content/uploads/2026/03/hicri-1447-erzincan-gumushane.jpg
END:VEVENT
END:VCALENDAR